BEGIN:VCALENDAR
VERSION:2.0
PRODID:-//Brookside Pet Training Studio for Dogs - ECPv6.15.13//NONSGML v1.0//EN
CALSCALE:GREGORIAN
METHOD:PUBLISH
X-ORIGINAL-URL:https://bksdogtraining.com
X-WR-CALDESC:Events for Brookside Pet Training Studio for Dogs
REFRESH-INTERVAL;VALUE=DURATION:PT1H
X-Robots-Tag:noindex
X-PUBLISHED-TTL:PT1H
BEGIN:VTIMEZONE
TZID:America/Chicago
BEGIN:DAYLIGHT
TZOFFSETFROM:-0600
TZOFFSETTO:-0500
TZNAME:CDT
DTSTART:20250309T080000
END:DAYLIGHT
BEGIN:STANDARD
TZOFFSETFROM:-0500
TZOFFSETTO:-0600
TZNAME:CST
DTSTART:20251102T070000
END:STANDARD
BEGIN:DAYLIGHT
TZOFFSETFROM:-0600
TZOFFSETTO:-0500
TZNAME:CDT
DTSTART:20260308T080000
END:DAYLIGHT
BEGIN:STANDARD
TZOFFSETFROM:-0500
TZOFFSETTO:-0600
TZNAME:CST
DTSTART:20261101T070000
END:STANDARD
BEGIN:DAYLIGHT
TZOFFSETFROM:-0600
TZOFFSETTO:-0500
TZNAME:CDT
DTSTART:20270314T080000
END:DAYLIGHT
BEGIN:STANDARD
TZOFFSETFROM:-0500
TZOFFSETTO:-0600
TZNAME:CST
DTSTART:20271107T070000
END:STANDARD
END:VTIMEZONE
BEGIN:VEVENT
DTSTART;TZID=America/Chicago:20260323T180000
DTEND;TZID=America/Chicago:20260323T190000
DTSTAMP:20260423T110819
CREATED:20260217T161827Z
LAST-MODIFIED:20260217T161830Z
UID:10007635-1774288800-1774292400@bksdogtraining.com
SUMMARY:Agility Foundations- 6 week series Monday 6pm
DESCRIPTION:Want to get serious enough to learn agility basics without the pressure of competition? Join Michele Sickles as she teaches the Foundations needed for the sport of agility. this is the second in our Puppy Agility series.
URL:https://bksdogtraining.com/class/agility-foundations-6-week-series-monday-6pm-2/2026-03-23/
LOCATION:Brookside Pet Training Studio for Dogs\, 601 East 63rd ST. #100\, Kansas City\, MO\, 64110
GEO:39.0132089;-94.5805796
X-APPLE-STRUCTURED-LOCATION;VALUE=URI;X-ADDRESS=Brookside Pet Training Studio for Dogs 601 East 63rd ST. #100 Kansas City MO 64110;X-APPLE-RADIUS=500;X-TITLE=601 East 63rd ST. #100:geo:-94.5805796,39.0132089
END:VEVENT
BEGIN:VEVENT
DTSTART;TZID=America/Chicago:20260324T150000
DTEND;TZID=America/Chicago:20260324T160000
DTSTAMP:20260423T110819
CREATED:20260113T024144Z
LAST-MODIFIED:20260113T024237Z
UID:10007306-1774364400-1774368000@bksdogtraining.com
SUMMARY:Continuing Nose Work (NW3 and up) 3pm
DESCRIPTION:Join our afternoon drop in style class for some more challenging searches.
URL:https://bksdogtraining.com/class/continuing-nose-work-nw3-and-up-3pm/2026-03-24/
LOCATION:Brookside Pet Training Studio for Dogs\, 601 East 63rd ST. #100\, Kansas City\, MO\, 64110
GEO:39.0132089;-94.5805796
X-APPLE-STRUCTURED-LOCATION;VALUE=URI;X-ADDRESS=Brookside Pet Training Studio for Dogs 601 East 63rd ST. #100 Kansas City MO 64110;X-APPLE-RADIUS=500;X-TITLE=601 East 63rd ST. #100:geo:-94.5805796,39.0132089
END:VEVENT
BEGIN:VEVENT
DTSTART;TZID=America/Chicago:20260324T173000
DTEND;TZID=America/Chicago:20260324T183000
DTSTAMP:20260423T110819
CREATED:20260217T165442Z
LAST-MODIFIED:20260217T165445Z
UID:10007661-1774373400-1774377000@bksdogtraining.com
SUMMARY:NACSW Intro to Odor 1 - Tuesdays 5:30pm
DESCRIPTION:Join us to start your dog on this fun sport as you learn to work as a team to search for odor. Fair warning this sport gets addictive!
URL:https://bksdogtraining.com/class/nacsw-intro-to-odor-1-tuesdays-530pm-2/2026-03-24/
LOCATION:Brookside Pet Training Studio for Dogs\, 601 East 63rd ST. #100\, Kansas City\, MO\, 64110
GEO:39.0132089;-94.5805796
X-APPLE-STRUCTURED-LOCATION;VALUE=URI;X-ADDRESS=Brookside Pet Training Studio for Dogs 601 East 63rd ST. #100 Kansas City MO 64110;X-APPLE-RADIUS=500;X-TITLE=601 East 63rd ST. #100:geo:-94.5805796,39.0132089
END:VEVENT
BEGIN:VEVENT
DTSTART;TZID=America/Chicago:20260324T190000
DTEND;TZID=America/Chicago:20260324T190000
DTSTAMP:20260423T110819
CREATED:20260113T025249Z
LAST-MODIFIED:20260126T170240Z
UID:10007567-1774378800-1774378800@bksdogtraining.com
SUMMARY:Continuing Nose Work 7pm
DESCRIPTION:Join us for our drop in style classes to develop your team work in nosseowkr. Dogs must be on all 3 odors to start.  Sign up for a ddrop in style slot CLICK HERE
URL:https://bksdogtraining.com/class/continuing-nose-work-7pm/2026-03-24/
LOCATION:Brookside Pet Training Studio for Dogs\, 601 East 63rd ST. #100\, Kansas City\, MO\, 64110
GEO:39.0132089;-94.5805796
X-APPLE-STRUCTURED-LOCATION;VALUE=URI;X-ADDRESS=Brookside Pet Training Studio for Dogs 601 East 63rd ST. #100 Kansas City MO 64110;X-APPLE-RADIUS=500;X-TITLE=601 East 63rd ST. #100:geo:-94.5805796,39.0132089
END:VEVENT
BEGIN:VEVENT
DTSTART;TZID=America/Chicago:20260325T120000
DTEND;TZID=America/Chicago:20260325T130000
DTSTAMP:20260423T110819
CREATED:20251127T035549Z
LAST-MODIFIED:20251211T025959Z
UID:10006403-1774440000-1774443600@bksdogtraining.com
SUMMARY:Puppy Start Right • Wednesday noon
DESCRIPTION:Noon Puppy Start Right class
URL:https://bksdogtraining.com/class/puppy-start-right/2026-03-25/
END:VEVENT
BEGIN:VEVENT
DTSTART;TZID=America/Chicago:20260325T173000
DTEND;TZID=America/Chicago:20260325T183000
DTSTAMP:20260423T110819
CREATED:20251207T030512Z
LAST-MODIFIED:20251211T025711Z
UID:10006712-1774459800-1774463400@bksdogtraining.com
SUMMARY:Puppy Start Right • Wednesday evening 5:30pm
DESCRIPTION:Evening Puppy Start Right class
URL:https://bksdogtraining.com/class/puppy-start-right-wednesday-evening-530pm/2026-03-25/
END:VEVENT
BEGIN:VEVENT
DTSTART;TZID=America/Chicago:20260325T190000
DTEND;TZID=America/Chicago:20260325T200000
DTSTAMP:20260423T110819
CREATED:20251211T030711Z
LAST-MODIFIED:20251211T031140Z
UID:10007164-1774465200-1774468800@bksdogtraining.com
SUMMARY:Puppy Kindergarten - Wednesday 7pm
DESCRIPTION:Evening Puppy Kindergarten class
URL:https://bksdogtraining.com/class/puppy-kindergarten-wednesday-7pm-2/2026-03-25/
LOCATION:Brookside Pet Training Studio for Dogs\, 601 East 63rd ST. #100\, Kansas City\, MO\, 64110
GEO:39.0132089;-94.5805796
X-APPLE-STRUCTURED-LOCATION;VALUE=URI;X-ADDRESS=Brookside Pet Training Studio for Dogs 601 East 63rd ST. #100 Kansas City MO 64110;X-APPLE-RADIUS=500;X-TITLE=601 East 63rd ST. #100:geo:-94.5805796,39.0132089
END:VEVENT
BEGIN:VEVENT
DTSTART;TZID=America/Chicago:20260328T090000
DTEND;TZID=America/Chicago:20260328T100000
DTSTAMP:20260423T110819
CREATED:20251215T181202Z
LAST-MODIFIED:20251215T181206Z
UID:10006246-1774688400-1774692000@bksdogtraining.com
SUMMARY:Puppy Start Right - Saturday 9am •
DESCRIPTION:Saturday class for our youngest students. 8 weeks to 6 months.
URL:https://bksdogtraining.com/class/puppy-start-right-saturday-9am-3/2026-03-28/
END:VEVENT
BEGIN:VEVENT
DTSTART;TZID=America/Chicago:20260328T090000
DTEND;TZID=America/Chicago:20260328T100000
DTSTAMP:20260423T110819
CREATED:20260406T151650Z
LAST-MODIFIED:20260406T151650Z
UID:10007702-1774688400-1774692000@bksdogtraining.com
SUMMARY:Puppy Start Right - Saturday 10 am •
DESCRIPTION:Saturday class for our youngest students. 8 weeks to 6 months.
URL:https://bksdogtraining.com/class/puppy-start-right-saturday-10-am/2026-03-28/
END:VEVENT
BEGIN:VEVENT
DTSTART;TZID=America/Chicago:20260328T110000
DTEND;TZID=America/Chicago:20260328T120000
DTSTAMP:20260423T110819
CREATED:20251114T032759Z
LAST-MODIFIED:20251114T033419Z
UID:10005973-1774695600-1774699200@bksdogtraining.com
SUMMARY:Puppy Kindergarten Saturday 11am
DESCRIPTION:For graduates of our Puppy Start Right program
URL:https://bksdogtraining.com/class/puppy-kindergartensaturday-11am-2/2026-03-28/
LOCATION:Brookside Pet Training Studio for Dogs\, 601 East 63rd ST. #100\, Kansas City\, MO\, 64110
GEO:39.0132089;-94.5805796
X-APPLE-STRUCTURED-LOCATION;VALUE=URI;X-ADDRESS=Brookside Pet Training Studio for Dogs 601 East 63rd ST. #100 Kansas City MO 64110;X-APPLE-RADIUS=500;X-TITLE=601 East 63rd ST. #100:geo:-94.5805796,39.0132089
END:VEVENT
BEGIN:VEVENT
DTSTART;TZID=America/Chicago:20260328T110000
DTEND;TZID=America/Chicago:20260328T120000
DTSTAMP:20260423T110819
CREATED:20251207T024322Z
LAST-MODIFIED:20251207T024547Z
UID:10006353-1774695600-1774699200@bksdogtraining.com
SUMMARY:Puppy Kindergarten • Saturday 11am
DESCRIPTION:Saturday morning Kindergarten class\,
URL:https://bksdogtraining.com/class/puppy-kindergarten-saturday-11am/2026-03-28/
END:VEVENT
BEGIN:VEVENT
DTSTART;TZID=America/Chicago:20260328T120000
DTEND;TZID=America/Chicago:20260328T130000
DTSTAMP:20260423T110820
CREATED:20260105T175306Z
LAST-MODIFIED:20260105T175504Z
UID:10007242-1774699200-1774702800@bksdogtraining.com
SUMMARY:Kindergarten 2 - Saturday noon •
DESCRIPTION:For graduates of our Puppy Kindergarten class\, you must have mastered an off leash recall in class. Kinder 2 will focus on more off leash dependability and test prep for the CGC test.
URL:https://bksdogtraining.com/class/kindergarten-2-saturday-noon/2026-03-28/
LOCATION:Brookside Pet Training Studio for Dogs\, 601 East 63rd ST. #100\, Kansas City\, MO\, 64110
GEO:39.0132089;-94.5805796
X-APPLE-STRUCTURED-LOCATION;VALUE=URI;X-ADDRESS=Brookside Pet Training Studio for Dogs 601 East 63rd ST. #100 Kansas City MO 64110;X-APPLE-RADIUS=500;X-TITLE=601 East 63rd ST. #100:geo:-94.5805796,39.0132089
END:VEVENT
BEGIN:VEVENT
DTSTART;TZID=America/Chicago:20260331T150000
DTEND;TZID=America/Chicago:20260331T160000
DTSTAMP:20260423T110820
CREATED:20260113T024144Z
LAST-MODIFIED:20260113T024237Z
UID:10007307-1774969200-1774972800@bksdogtraining.com
SUMMARY:Continuing Nose Work (NW3 and up) 3pm
DESCRIPTION:Join our afternoon drop in style class for some more challenging searches.
URL:https://bksdogtraining.com/class/continuing-nose-work-nw3-and-up-3pm/2026-03-31/
LOCATION:Brookside Pet Training Studio for Dogs\, 601 East 63rd ST. #100\, Kansas City\, MO\, 64110
GEO:39.0132089;-94.5805796
X-APPLE-STRUCTURED-LOCATION;VALUE=URI;X-ADDRESS=Brookside Pet Training Studio for Dogs 601 East 63rd ST. #100 Kansas City MO 64110;X-APPLE-RADIUS=500;X-TITLE=601 East 63rd ST. #100:geo:-94.5805796,39.0132089
END:VEVENT
BEGIN:VEVENT
DTSTART;TZID=America/Chicago:20260331T190000
DTEND;TZID=America/Chicago:20260331T190000
DTSTAMP:20260423T110820
CREATED:20260113T025249Z
LAST-MODIFIED:20260126T170240Z
UID:10007568-1774983600-1774983600@bksdogtraining.com
SUMMARY:Continuing Nose Work 7pm
DESCRIPTION:Join us for our drop in style classes to develop your team work in nosseowkr. Dogs must be on all 3 odors to start.  Sign up for a ddrop in style slot CLICK HERE
URL:https://bksdogtraining.com/class/continuing-nose-work-7pm/2026-03-31/
LOCATION:Brookside Pet Training Studio for Dogs\, 601 East 63rd ST. #100\, Kansas City\, MO\, 64110
GEO:39.0132089;-94.5805796
X-APPLE-STRUCTURED-LOCATION;VALUE=URI;X-ADDRESS=Brookside Pet Training Studio for Dogs 601 East 63rd ST. #100 Kansas City MO 64110;X-APPLE-RADIUS=500;X-TITLE=601 East 63rd ST. #100:geo:-94.5805796,39.0132089
END:VEVENT
END:VCALENDAR