BEGIN:VCALENDAR
VERSION:2.0
PRODID:-//Brookside Pet Training Studio for Dogs - ECPv6.15.13//NONSGML v1.0//EN
CALSCALE:GREGORIAN
METHOD:PUBLISH
X-WR-CALNAME:Brookside Pet Training Studio for Dogs
X-ORIGINAL-URL:https://bksdogtraining.com
X-WR-CALDESC:Events for Brookside Pet Training Studio for Dogs
REFRESH-INTERVAL;VALUE=DURATION:PT1H
X-Robots-Tag:noindex
X-PUBLISHED-TTL:PT1H
BEGIN:VTIMEZONE
TZID:America/Chicago
BEGIN:DAYLIGHT
TZOFFSETFROM:-0600
TZOFFSETTO:-0500
TZNAME:CDT
DTSTART:20250309T080000
END:DAYLIGHT
BEGIN:STANDARD
TZOFFSETFROM:-0500
TZOFFSETTO:-0600
TZNAME:CST
DTSTART:20251102T070000
END:STANDARD
BEGIN:DAYLIGHT
TZOFFSETFROM:-0600
TZOFFSETTO:-0500
TZNAME:CDT
DTSTART:20260308T080000
END:DAYLIGHT
BEGIN:STANDARD
TZOFFSETFROM:-0500
TZOFFSETTO:-0600
TZNAME:CST
DTSTART:20261101T070000
END:STANDARD
BEGIN:DAYLIGHT
TZOFFSETFROM:-0600
TZOFFSETTO:-0500
TZNAME:CDT
DTSTART:20270314T080000
END:DAYLIGHT
BEGIN:STANDARD
TZOFFSETFROM:-0500
TZOFFSETTO:-0600
TZNAME:CST
DTSTART:20271107T070000
END:STANDARD
END:VTIMEZONE
BEGIN:VEVENT
DTSTART;TZID=America/Chicago:20260425T090000
DTEND;TZID=America/Chicago:20260425T100000
DTSTAMP:20260423T064549
CREATED:20251215T181202Z
LAST-MODIFIED:20251215T181206Z
UID:10006250-1777107600-1777111200@bksdogtraining.com
SUMMARY:Puppy Start Right - Saturday 9am •
DESCRIPTION:Saturday class for our youngest students. 8 weeks to 6 months.
URL:https://bksdogtraining.com/class/puppy-start-right-saturday-9am-3/2026-04-25/
END:VEVENT
BEGIN:VEVENT
DTSTART;TZID=America/Chicago:20260425T100000
DTEND;TZID=America/Chicago:20260425T110000
DTSTAMP:20260423T064550
CREATED:20260406T151912Z
LAST-MODIFIED:20260406T151914Z
UID:10007743-1777111200-1777114800@bksdogtraining.com
SUMMARY:Puppy Start Right - Saturday 10 am •
DESCRIPTION:Saturday class for our youngest students. 8 weeks to 6 months.
URL:https://bksdogtraining.com/class/puppy-start-right-saturday-10-am-2/2026-04-25/
END:VEVENT
BEGIN:VEVENT
DTSTART;TZID=America/Chicago:20260425T110000
DTEND;TZID=America/Chicago:20260425T120000
DTSTAMP:20260423T064550
CREATED:20251114T032759Z
LAST-MODIFIED:20251114T033419Z
UID:10005977-1777114800-1777118400@bksdogtraining.com
SUMMARY:Puppy Kindergarten Saturday 11am
DESCRIPTION:For graduates of our Puppy Start Right program
URL:https://bksdogtraining.com/class/puppy-kindergartensaturday-11am-2/2026-04-25/
LOCATION:Brookside Pet Training Studio for Dogs\, 601 East 63rd ST. #100\, Kansas City\, MO\, 64110
GEO:39.0132089;-94.5805796
X-APPLE-STRUCTURED-LOCATION;VALUE=URI;X-ADDRESS=Brookside Pet Training Studio for Dogs 601 East 63rd ST. #100 Kansas City MO 64110;X-APPLE-RADIUS=500;X-TITLE=601 East 63rd ST. #100:geo:-94.5805796,39.0132089
END:VEVENT
BEGIN:VEVENT
DTSTART;TZID=America/Chicago:20260425T110000
DTEND;TZID=America/Chicago:20260425T120000
DTSTAMP:20260423T064550
CREATED:20251207T024322Z
LAST-MODIFIED:20251207T024547Z
UID:10006357-1777114800-1777118400@bksdogtraining.com
SUMMARY:Puppy Kindergarten • Saturday 11am
DESCRIPTION:Saturday morning Kindergarten class\,
URL:https://bksdogtraining.com/class/puppy-kindergarten-saturday-11am/2026-04-25/
END:VEVENT
BEGIN:VEVENT
DTSTART;TZID=America/Chicago:20260425T120000
DTEND;TZID=America/Chicago:20260425T130000
DTSTAMP:20260423T064550
CREATED:20260105T175306Z
LAST-MODIFIED:20260105T175504Z
UID:10007246-1777118400-1777122000@bksdogtraining.com
SUMMARY:Kindergarten 2 - Saturday noon •
DESCRIPTION:For graduates of our Puppy Kindergarten class\, you must have mastered an off leash recall in class. Kinder 2 will focus on more off leash dependability and test prep for the CGC test.
URL:https://bksdogtraining.com/class/kindergarten-2-saturday-noon/2026-04-25/
LOCATION:Brookside Pet Training Studio for Dogs\, 601 East 63rd ST. #100\, Kansas City\, MO\, 64110
GEO:39.0132089;-94.5805796
X-APPLE-STRUCTURED-LOCATION;VALUE=URI;X-ADDRESS=Brookside Pet Training Studio for Dogs 601 East 63rd ST. #100 Kansas City MO 64110;X-APPLE-RADIUS=500;X-TITLE=601 East 63rd ST. #100:geo:-94.5805796,39.0132089
END:VEVENT
BEGIN:VEVENT
DTSTART;TZID=America/Chicago:20260425T143000
DTEND;TZID=America/Chicago:20260425T153000
DTSTAMP:20260423T064550
CREATED:20260406T150910Z
LAST-MODIFIED:20260406T151105Z
UID:10007695-1777127400-1777131000@bksdogtraining.com
SUMMARY:NACSW Intro to K9 Nose Work™ - 6 week series - Saturday 2:30
DESCRIPTION:Join CNWI Lindsay Norber for an introduction to K9 Nosework to get your dog searching in this addictive sport. Classes start up in April on Satirdays at 2:30pm
URL:https://bksdogtraining.com/class/nacsw-intro-to-k9-nose-work-6-week-series-saturday-230/2026-04-25/
LOCATION:Brookside Pet Training Studio for Dogs\, 601 East 63rd ST. #100\, Kansas City\, MO\, 64110
GEO:39.0132089;-94.5805796
X-APPLE-STRUCTURED-LOCATION;VALUE=URI;X-ADDRESS=Brookside Pet Training Studio for Dogs 601 East 63rd ST. #100 Kansas City MO 64110;X-APPLE-RADIUS=500;X-TITLE=601 East 63rd ST. #100:geo:-94.5805796,39.0132089
END:VEVENT
BEGIN:VEVENT
DTSTART;TZID=America/Chicago:20260427T163000
DTEND;TZID=America/Chicago:20260427T173000
DTSTAMP:20260423T064550
CREATED:20260406T143746Z
LAST-MODIFIED:20260406T144840Z
UID:10007692-1777307400-1777311000@bksdogtraining.com
SUMMARY:Fit Paws - month long series April
DESCRIPTION:Join K9 fitness specialist Michele Sickles for a weekly class to improve your dogs fitness and strength. 4 week series
URL:https://bksdogtraining.com/class/fit-paws-month-long-series-feb-march-2/2026-04-27/
LOCATION:Brookside Pet Training Studio for Dogs\, 601 East 63rd ST. #100\, Kansas City\, MO\, 64110
GEO:39.0132089;-94.5805796
X-APPLE-STRUCTURED-LOCATION;VALUE=URI;X-ADDRESS=Brookside Pet Training Studio for Dogs 601 East 63rd ST. #100 Kansas City MO 64110;X-APPLE-RADIUS=500;X-TITLE=601 East 63rd ST. #100:geo:-94.5805796,39.0132089
END:VEVENT
BEGIN:VEVENT
DTSTART;TZID=America/Chicago:20260428T150000
DTEND;TZID=America/Chicago:20260428T160000
DTSTAMP:20260423T064550
CREATED:20260113T024144Z
LAST-MODIFIED:20260113T024237Z
UID:10007311-1777388400-1777392000@bksdogtraining.com
SUMMARY:Continuing Nose Work (NW3 and up) 3pm
DESCRIPTION:Join our afternoon drop in style class for some more challenging searches.
URL:https://bksdogtraining.com/class/continuing-nose-work-nw3-and-up-3pm/2026-04-28/
LOCATION:Brookside Pet Training Studio for Dogs\, 601 East 63rd ST. #100\, Kansas City\, MO\, 64110
GEO:39.0132089;-94.5805796
X-APPLE-STRUCTURED-LOCATION;VALUE=URI;X-ADDRESS=Brookside Pet Training Studio for Dogs 601 East 63rd ST. #100 Kansas City MO 64110;X-APPLE-RADIUS=500;X-TITLE=601 East 63rd ST. #100:geo:-94.5805796,39.0132089
END:VEVENT
BEGIN:VEVENT
DTSTART;TZID=America/Chicago:20260428T173000
DTEND;TZID=America/Chicago:20260428T183000
DTSTAMP:20260423T064550
CREATED:20260408T143219Z
LAST-MODIFIED:20260408T143219Z
UID:10007782-1777397400-1777401000@bksdogtraining.com
SUMMARY:NACSW Intro to Odor 2 - Tuesday 5:30pm
DESCRIPTION:Third in our series of Intro to Nose Work\, students add 2 more odors to searching skills.
URL:https://bksdogtraining.com/class/nacsw-intro-to-odor-2-tuesday-530pm/2026-04-28/
LOCATION:Brookside Pet Training Studio for Dogs\, 601 East 63rd ST. #100\, Kansas City\, MO\, 64110
GEO:39.0132089;-94.5805796
X-APPLE-STRUCTURED-LOCATION;VALUE=URI;X-ADDRESS=Brookside Pet Training Studio for Dogs 601 East 63rd ST. #100 Kansas City MO 64110;X-APPLE-RADIUS=500;X-TITLE=601 East 63rd ST. #100:geo:-94.5805796,39.0132089
END:VEVENT
BEGIN:VEVENT
DTSTART;TZID=America/Chicago:20260428T190000
DTEND;TZID=America/Chicago:20260428T190000
DTSTAMP:20260423T064550
CREATED:20260113T025249Z
LAST-MODIFIED:20260126T170240Z
UID:10007572-1777402800-1777402800@bksdogtraining.com
SUMMARY:Continuing Nose Work 7pm
DESCRIPTION:Join us for our drop in style classes to develop your team work in nosseowkr. Dogs must be on all 3 odors to start.  Sign up for a ddrop in style slot CLICK HERE
URL:https://bksdogtraining.com/class/continuing-nose-work-7pm/2026-04-28/
LOCATION:Brookside Pet Training Studio for Dogs\, 601 East 63rd ST. #100\, Kansas City\, MO\, 64110
GEO:39.0132089;-94.5805796
X-APPLE-STRUCTURED-LOCATION;VALUE=URI;X-ADDRESS=Brookside Pet Training Studio for Dogs 601 East 63rd ST. #100 Kansas City MO 64110;X-APPLE-RADIUS=500;X-TITLE=601 East 63rd ST. #100:geo:-94.5805796,39.0132089
END:VEVENT
BEGIN:VEVENT
DTSTART;TZID=America/Chicago:20260429T120000
DTEND;TZID=America/Chicago:20260429T130000
DTSTAMP:20260423T064550
CREATED:20251127T035549Z
LAST-MODIFIED:20251211T025959Z
UID:10006408-1777464000-1777467600@bksdogtraining.com
SUMMARY:Puppy Start Right • Wednesday noon
DESCRIPTION:Noon Puppy Start Right class
URL:https://bksdogtraining.com/class/puppy-start-right/2026-04-29/
END:VEVENT
BEGIN:VEVENT
DTSTART;TZID=America/Chicago:20260429T173000
DTEND;TZID=America/Chicago:20260429T183000
DTSTAMP:20260423T064550
CREATED:20251207T030512Z
LAST-MODIFIED:20251211T025711Z
UID:10006717-1777483800-1777487400@bksdogtraining.com
SUMMARY:Puppy Start Right • Wednesday evening 5:30pm
DESCRIPTION:Evening Puppy Start Right class
URL:https://bksdogtraining.com/class/puppy-start-right-wednesday-evening-530pm/2026-04-29/
END:VEVENT
BEGIN:VEVENT
DTSTART;TZID=America/Chicago:20260429T190000
DTEND;TZID=America/Chicago:20260429T200000
DTSTAMP:20260423T064550
CREATED:20251211T030711Z
LAST-MODIFIED:20251211T031140Z
UID:10007169-1777489200-1777492800@bksdogtraining.com
SUMMARY:Puppy Kindergarten - Wednesday 7pm
DESCRIPTION:Evening Puppy Kindergarten class
URL:https://bksdogtraining.com/class/puppy-kindergarten-wednesday-7pm-2/2026-04-29/
LOCATION:Brookside Pet Training Studio for Dogs\, 601 East 63rd ST. #100\, Kansas City\, MO\, 64110
GEO:39.0132089;-94.5805796
X-APPLE-STRUCTURED-LOCATION;VALUE=URI;X-ADDRESS=Brookside Pet Training Studio for Dogs 601 East 63rd ST. #100 Kansas City MO 64110;X-APPLE-RADIUS=500;X-TITLE=601 East 63rd ST. #100:geo:-94.5805796,39.0132089
END:VEVENT
END:VCALENDAR