BEGIN:VCALENDAR
VERSION:2.0
PRODID:-//Brookside Pet Training Studio for Dogs - ECPv6.15.13//NONSGML v1.0//EN
CALSCALE:GREGORIAN
METHOD:PUBLISH
X-WR-CALNAME:Brookside Pet Training Studio for Dogs
X-ORIGINAL-URL:https://bksdogtraining.com
X-WR-CALDESC:Events for Brookside Pet Training Studio for Dogs
REFRESH-INTERVAL;VALUE=DURATION:PT1H
X-Robots-Tag:noindex
X-PUBLISHED-TTL:PT1H
BEGIN:VTIMEZONE
TZID:America/Chicago
BEGIN:DAYLIGHT
TZOFFSETFROM:-0600
TZOFFSETTO:-0500
TZNAME:CDT
DTSTART:20250309T080000
END:DAYLIGHT
BEGIN:STANDARD
TZOFFSETFROM:-0500
TZOFFSETTO:-0600
TZNAME:CST
DTSTART:20251102T070000
END:STANDARD
BEGIN:DAYLIGHT
TZOFFSETFROM:-0600
TZOFFSETTO:-0500
TZNAME:CDT
DTSTART:20260308T080000
END:DAYLIGHT
BEGIN:STANDARD
TZOFFSETFROM:-0500
TZOFFSETTO:-0600
TZNAME:CST
DTSTART:20261101T070000
END:STANDARD
BEGIN:DAYLIGHT
TZOFFSETFROM:-0600
TZOFFSETTO:-0500
TZNAME:CDT
DTSTART:20270314T080000
END:DAYLIGHT
BEGIN:STANDARD
TZOFFSETFROM:-0500
TZOFFSETTO:-0600
TZNAME:CST
DTSTART:20271107T070000
END:STANDARD
END:VTIMEZONE
BEGIN:VEVENT
DTSTART;TZID=America/Chicago:20260501T173000
DTEND;TZID=America/Chicago:20260501T183000
DTSTAMP:20260423T111225
CREATED:20251011T000114Z
LAST-MODIFIED:20251011T000114Z
UID:10001962-1777656600-1777660200@bksdogtraining.com
SUMMARY:FURst Fridays Little Dog Play
DESCRIPTION:
URL:https://bksdogtraining.com/class/furst-fridays-little-dog-play/2026-05-01/
LOCATION:Brookside Pet Training Studio for Dogs\, 601 East 63rd ST. #100\, Kansas City\, MO\, 64110
GEO:39.0132089;-94.5805796
X-APPLE-STRUCTURED-LOCATION;VALUE=URI;X-ADDRESS=Brookside Pet Training Studio for Dogs 601 East 63rd ST. #100 Kansas City MO 64110;X-APPLE-RADIUS=500;X-TITLE=601 East 63rd ST. #100:geo:-94.5805796,39.0132089
END:VEVENT
END:VCALENDAR